BEGIN:VCALENDAR
VERSION:2.0
PRODID:-//Squarespace Inc/Squarespace 6//v6//EN
BEGIN:VEVENT
UID:5bb049a34192022ca7c04a40@squarespace.com
DTSTAMP:20180930T044022Z
DTSTART:20181109T230000Z
DTEND:20181111T040000Z
SUMMARY:Design your Life on Purpose\, Workshop/Retreat
GEO:-33.806262;151.09433
LOCATION:Incahoots\, 72-74 Anzac Ave\, West Ryde\, 2114
END:VEVENT
END:VCALENDAR
