BEGIN:VCALENDAR
VERSION:2.0
PRODID:-//Squarespace Inc/Squarespace 6//v6//EN
BEGIN:VEVENT
UID:5b36f8da0e2e72597351ca73@squarespace.com
DTSTAMP:20180630T034931Z
DTSTART:20180630T000000Z
DTEND:20180630T010000Z
SUMMARY:Design your Life\, on Purpose
END:VEVENT
END:VCALENDAR
